BEGIN:VCALENDAR
VERSION:2.0
PRODID:-//Join The Best Pool Leagues in Georgia! - ECPv6.15.20//NONSGML v1.0//EN
CALSCALE:GREGORIAN
METHOD:PUBLISH
X-ORIGINAL-URL:http://www.acsgaleagues.com
X-WR-CALDESC:Events for Join The Best Pool Leagues in Georgia!
REFRESH-INTERVAL;VALUE=DURATION:PT1H
X-Robots-Tag:noindex
X-PUBLISHED-TTL:PT1H
BEGIN:VTIMEZONE
TZID:America/New_York
BEGIN:DAYLIGHT
TZOFFSETFROM:-0500
TZOFFSETTO:-0400
TZNAME:EDT
DTSTART:20250309T070000
END:DAYLIGHT
BEGIN:STANDARD
TZOFFSETFROM:-0400
TZOFFSETTO:-0500
TZNAME:EST
DTSTART:20251102T060000
END:STANDARD
BEGIN:DAYLIGHT
TZOFFSETFROM:-0500
TZOFFSETTO:-0400
TZNAME:EDT
DTSTART:20260308T070000
END:DAYLIGHT
BEGIN:STANDARD
TZOFFSETFROM:-0400
TZOFFSETTO:-0500
TZNAME:EST
DTSTART:20261101T060000
END:STANDARD
BEGIN:DAYLIGHT
TZOFFSETFROM:-0500
TZOFFSETTO:-0400
TZNAME:EDT
DTSTART:20270314T070000
END:DAYLIGHT
BEGIN:STANDARD
TZOFFSETFROM:-0400
TZOFFSETTO:-0500
TZNAME:EST
DTSTART:20271107T060000
END:STANDARD
END:VTIMEZONE
BEGIN:VEVENT
DTSTART;VALUE=DATE:20260425
DTEND;VALUE=DATE:20260426
DTSTAMP:20260419T112955
CREATED:20260219T215112Z
LAST-MODIFIED:20260322T092257Z
UID:3082-1777075200-1777161599@www.acsgaleagues.com
SUMMARY:2026 ACS Georgia State Championships - Day 1 Singles Event
DESCRIPTION:SATURDAY\, APRIL 25th – 8-BALL MIXED SINGLES \n(MULTI-DIVISION\, SINGLE BRACKET\, DOUBLE ELIMINATION) \n\n\n\nDIVISION\nENTRY FEE\nGREENS FEE\nCSR RATING CAP\nFARGO RATING CAP\nRACE TO (W/L)\n\n\nRec\n$50\n$15\n<1600\n<435\n3/2\n\n\nStandard\n$60\n$15\n1601 – 1700\n436 – 510\n4/3\n\n\nOpen\n$60\n$15\n1701 – 1800\n511 – 585\n5/4\n\n\nAdvanced\n$75\n$15\n1801 – 1900\n586 – 660\n6/5\n\n\nMaster\n$75\n$15\n1901 – 1975\n661 – 720\n7/6\n\n\n\nhttp://www.acsgaleagues.com/2026-acs-georgia-state-championships/
URL:http://www.acsgaleagues.com/event/2026-acs-georgia-state-championships-day-1-singles-event/
LOCATION:Big Shots Billiards\, 101 Emma Ln\, Woodstock\, GA\, 30189\, United States
CATEGORIES:Tournaments
ORGANIZER;CN="Big Dawg Billiards":MAILTO:chris@bigdawgbilliards.com
END:VEVENT
BEGIN:VEVENT
DTSTART;VALUE=DATE:20260426
DTEND;VALUE=DATE:20260427
DTSTAMP:20260419T112955
CREATED:20260219T215408Z
LAST-MODIFIED:20260322T092423Z
UID:3084-1777161600-1777247999@www.acsgaleagues.com
SUMMARY:2026 ACS Georgia State Championships - Day 2 Team Event
DESCRIPTION:SUNDAY\, APRIL 26TH  – 9-BALL MIXED TEAMS \n(MULT-DIVISION\, SINGLE BRACKET\, DOUBLE ELIMINATION) \n\n\n\nDIVISION\nENTRY FEE\nGREENS FEE\nCSR RATING CAP\nFARGO RATING CAP\nRACE TO (W/L)\n\n\nRec\n$100\n$25\n6400\n1740\n10/8\n\n\nStandard\n$120\n$25\n6800\n2040\n12/10\n\n\nOpen\n$120\n$25\n7200\n2340\n12/10\n\n\nAdvanced\n$180\n$25\n7600\n2640\n14/12\n\n\nMaster\n$180\n$25\n7900\n2880\n15/13\n\n\n\nhttp://www.acsgaleagues.com/2026-acs-georgia-state-championships/
URL:http://www.acsgaleagues.com/event/2026-acs-georgia-state-championships-day-2-team-event/
LOCATION:Big Shots Billiards\, 101 Emma Ln\, Woodstock\, GA\, 30189\, United States
CATEGORIES:Tournaments
ORGANIZER;CN="Big Dawg Billiards":MAILTO:chris@bigdawgbilliards.com
END:VEVENT
END:VCALENDAR